BEGIN:VCALENDAR
VERSION:2.0
PRODID:-//Friends of Gottfried Prairie &amp; Arboretum - ECPv6.6.4.2//NONSGML v1.0//EN
CALSCALE:GREGORIAN
METHOD:PUBLISH
X-WR-CALNAME:Friends of Gottfried Prairie &amp; Arboretum
X-ORIGINAL-URL:https://gottfriedprairiearboretum.org
X-WR-CALDESC:Events for Friends of Gottfried Prairie &amp; Arboretum
REFRESH-INTERVAL;VALUE=DURATION:PT1H
X-Robots-Tag:noindex
X-PUBLISHED-TTL:PT1H
BEGIN:VTIMEZONE
TZID:America/Halifax
BEGIN:DAYLIGHT
TZOFFSETFROM:-0400
TZOFFSETTO:-0300
TZNAME:ADT
DTSTART:20250309T060000
END:DAYLIGHT
BEGIN:STANDARD
TZOFFSETFROM:-0300
TZOFFSETTO:-0400
TZNAME:AST
DTSTART:20251102T050000
END:STANDARD
BEGIN:DAYLIGHT
TZOFFSETFROM:-0400
TZOFFSETTO:-0300
TZNAME:ADT
DTSTART:20260308T060000
END:DAYLIGHT
BEGIN:STANDARD
TZOFFSETFROM:-0300
TZOFFSETTO:-0400
TZNAME:AST
DTSTART:20261101T050000
END:STANDARD
END:VTIMEZONE
BEGIN:VEVENT
DTSTART;TZID=America/Halifax:20260411T090000
DTEND;TZID=America/Halifax:20260411T100000
DTSTAMP:20260421T192657
CREATED:20260107T225120Z
LAST-MODIFIED:20260107T225120Z
UID:5774-1775898000-1775901600@gottfriedprairiearboretum.org
SUMMARY:Tour of the Prairie 2026 – April
DESCRIPTION:Join us for a tour through the arboretum\, prairie\, and around the ponds.  Discover something new each month!   Each Tour will begin at the Shelter and take approximately 1 hour. Tours will be every 2nd Saturday of the month.
URL:https://gottfriedprairiearboretum.org/event/tour-of-the-prairie-2026-april/
LOCATION:Gottfried Prairie and Arboretum\, 400 University Drive\, Fond du Lac\, WI\, 54935\, United States
CATEGORIES:Monthly Prairie Hikes
ATTACH;FMTTYPE=image/jpeg:https://gottfriedprairiearboretum.org/wp-content/uploads/2025/01/pond-in-spring.jpg
END:VEVENT
BEGIN:VEVENT
DTSTART;TZID=America/Halifax:20251011T090000
DTEND;TZID=America/Halifax:20251011T100000
DTSTAMP:20260421T192657
CREATED:20250125T211819Z
LAST-MODIFIED:20250125T211819Z
UID:5606-1760173200-1760176800@gottfriedprairiearboretum.org
SUMMARY:Tour of the Prairie 2025 – October
DESCRIPTION:Join us for a tour through the arboretum\, prairie\, and around the ponds.  Discover something new each month!   Each Tour will begin at the Shelter and take approximately 1 hour. Tours will be every 2nd Saturday of the month.
URL:https://gottfriedprairiearboretum.org/event/tour-of-the-prairie-2025-october/
LOCATION:Gottfried Prairie and Arboretum\, 400 University Drive\, Fond du Lac\, WI\, 54935\, United States
CATEGORIES:Monthly Prairie Hikes,Tour of the Prairie
ATTACH;FMTTYPE=image/jpeg:https://gottfriedprairiearboretum.org/wp-content/uploads/2023/06/arbortem.jpg
END:VEVENT
BEGIN:VEVENT
DTSTART;TZID=America/Halifax:20250913T090000
DTEND;TZID=America/Halifax:20250913T100000
DTSTAMP:20260421T192657
CREATED:20250125T211639Z
LAST-MODIFIED:20250125T211639Z
UID:5603-1757754000-1757757600@gottfriedprairiearboretum.org
SUMMARY:Tour of the Prairie 2025 – September
DESCRIPTION:Join us for a tour through the arboretum\, prairie\, and around the ponds.  Discover something new each month!   Each Tour will begin at the Shelter and take approximately 1 hour. Tours will be every 2nd Saturday of the month. \n 
URL:https://gottfriedprairiearboretum.org/event/tour-of-the-prairie-2025-september/
LOCATION:Gottfried Prairie and Arboretum\, 400 University Drive\, Fond du Lac\, WI\, 54935\, United States
CATEGORIES:Monthly Prairie Hikes,Tour of the Prairie
ATTACH;FMTTYPE=image/jpeg:https://gottfriedprairiearboretum.org/wp-content/uploads/2025/01/grasses-2-sept-scaled.jpg
END:VEVENT
BEGIN:VEVENT
DTSTART;TZID=America/Halifax:20250712T090000
DTEND;TZID=America/Halifax:20250712T100000
DTSTAMP:20260421T192657
CREATED:20250125T211243Z
LAST-MODIFIED:20250125T211243Z
UID:5598-1752310800-1752314400@gottfriedprairiearboretum.org
SUMMARY:Tour of the Prairie 2025 – July
DESCRIPTION:Join us for a tour through the arboretum\, prairie\, and around the ponds.  Discover something new each month!   Each Tour will begin at the Shelter and take approximately 1 hour. Tours will be every 2nd Saturday of the month.
URL:https://gottfriedprairiearboretum.org/event/tour-of-the-prairie-2025-july/
LOCATION:Gottfried Prairie and Arboretum\, 400 University Drive\, Fond du Lac\, WI\, 54935\, United States
CATEGORIES:Monthly Prairie Hikes
ATTACH;FMTTYPE=image/jpeg:https://gottfriedprairiearboretum.org/wp-content/uploads/2023/05/333999886_1644591939298519_6508050365604887475_n.jpg
END:VEVENT
BEGIN:VEVENT
DTSTART;TZID=America/Halifax:20250614T090000
DTEND;TZID=America/Halifax:20250614T100000
DTSTAMP:20260421T192657
CREATED:20250125T210904Z
LAST-MODIFIED:20250610T220044Z
UID:5595-1749891600-1749895200@gottfriedprairiearboretum.org
SUMMARY:Tour of the Prairie 2025 – June
DESCRIPTION:Join us for a tour through the arboretum\, prairie\, and around the ponds.  Discover something new each month!   Each Tour will begin at the Gottfried Shelter (east parking lot adjacent to Fond du Lac County Campus) and take approximately 1 hour. Tours will be every 2nd Saturday of the month.
URL:https://gottfriedprairiearboretum.org/event/tour-of-the-prairie-2025-june/
LOCATION:Gottfried Prairie and Arboretum\, 400 University Drive\, Fond du Lac\, WI\, 54935\, United States
CATEGORIES:Monthly Prairie Hikes
ATTACH;FMTTYPE=image/png:https://gottfriedprairiearboretum.org/wp-content/uploads/2025/01/cropped-iris-tracy-2022.png
END:VEVENT
END:VCALENDAR