BEGIN:VCALENDAR
VERSION:2.0
PRODID:-//Friends of Gottfried Prairie &amp; Arboretum - ECPv6.6.4.2//NONSGML v1.0//EN
CALSCALE:GREGORIAN
METHOD:PUBLISH
X-WR-CALNAME:Friends of Gottfried Prairie &amp; Arboretum
X-ORIGINAL-URL:https://gottfriedprairiearboretum.org
X-WR-CALDESC:Events for Friends of Gottfried Prairie &amp; Arboretum
REFRESH-INTERVAL;VALUE=DURATION:PT1H
X-Robots-Tag:noindex
X-PUBLISHED-TTL:PT1H
BEGIN:VTIMEZONE
TZID:America/Halifax
BEGIN:DAYLIGHT
TZOFFSETFROM:-0400
TZOFFSETTO:-0300
TZNAME:ADT
DTSTART:20250309T060000
END:DAYLIGHT
BEGIN:STANDARD
TZOFFSETFROM:-0300
TZOFFSETTO:-0400
TZNAME:AST
DTSTART:20251102T050000
END:STANDARD
END:VTIMEZONE
BEGIN:VEVENT
DTSTART;TZID=America/Halifax:20250322T190000
DTEND;TZID=America/Halifax:20250322T210000
DTSTAMP:20260421T211609
CREATED:20250305T005517Z
LAST-MODIFIED:20250309T195419Z
UID:5625-1742670000-1742677200@gottfriedprairiearboretum.org
SUMMARY:Spring has Sprung Luminary Hike
DESCRIPTION:Join us for our Spring has Sprung luminary hike! \nTake a self guided hike through the arboretum and pond luminated trails. All ages are welcome!  Please start at the Gottfried shelter (east parking lot adjacent to the  Fond du Lac County campus ). \nAfter or before your hike\, enjoy some apple cider and popcorn! \nNOTE:  Since it is March and spring\, the trails might be a little wet so wear appropriate footwear. \n\n  \nDonations going towards Gottfried Prairie educational programs are encouraged.
URL:https://gottfriedprairiearboretum.org/event/spring-has-sprung-luminary-hike/
LOCATION:Gottfried Prairie and Arboretum\, 400 University Drive\, Fond du Lac\, WI\, 54935\, United States
CATEGORIES:Luminary Hike
ATTACH;FMTTYPE=image/jpeg:https://gottfriedprairiearboretum.org/wp-content/uploads/2023/05/350517867_205304825705556_5854240482604035239_n.jpg
END:VEVENT
END:VCALENDAR